BEGIN:VCALENDAR
VERSION:2.0
PRODID:-//hacksw/handcal//NONSGML v1.0//EN
BEGIN:VEVENT
DTSTART:20240916T170000
DTEND:20240916T200000
LOCATION:
ORGANIZER;CN=Didier Balmette:MAILTO:didier.balmette@free.fr
SUMMARY:WEBINAIRE : L’enseignement supérieur est-il obsolète à l’ère de l’IA
DESCRIPTION:WEBINAIRE : L’enseignement supérieur est-il obsolète à l’ère de l’IA Organisé par Institut G9+ et coorganisé par EdTech Francelundi 16 septembre 2024 à 17h Programme : Malgré la popularité croissante ...
URL:https://www.alumni.grenoble-inp.fr/fr/event/webinaire-l-enseignement-superieur-est-il-obsolete-a-l-ere-de-l-ia/2024/09/16/571
BEGIN:VALARM
TRIGGER:-P0DT1H0M0S
ACTION:DISPLAY
END:VALARM
END:VEVENT
END:VCALENDAR