BEGIN:VCALENDAR
VERSION:2.0
PRODID:-//hacksw/handcal//NONSGML v1.0//EN
BEGIN:VEVENT
DTSTART:20191107T190000
DTEND:20191107T190500
LOCATION:Préciser ultérieuement  \n79000 Niort
ORGANIZER;CN=Marie-Sophie LACROIX:MAILTO:ms.lacroix@alumni.grenoble-inp.fr
SUMMARY:Afterwork à Niort - save the date
DESCRIPTION:Gwenaelle Dubee (Ense3-HMG 98) , nouvelle correspondante à Niort pour Grenoble INP Alumni, vous propose un afterwork pour échanger ensemble sur le rôle de l'association, l'intérêt que chacun peut y...
URL:https://www.alumni.grenoble-inp.fr/fr/event/afterwork-a-niort-save-the-date/2019/11/07/68
BEGIN:VALARM
TRIGGER:-P0DT1H0M0S
ACTION:DISPLAY
END:VALARM
END:VEVENT
END:VCALENDAR