BEGIN:VCALENDAR
VERSION:2.0
PRODID:-//hacksw/handcal//NONSGML v1.0//EN
BEGIN:VEVENT
DTSTART:20260204T083000
DTEND:20260205T200000
LOCATION:Alpexpo Grenoble \n2 Av. d'Innsbruck  \n38100 Grenoble
ORGANIZER;CN=Didier Balmette:MAILTO:didier.balmette@free.fr
SUMMARY:Tech&Fest 2026
DESCRIPTION:Le Tech&Fest 2026En 2026, notre festival place la souveraineté au cœur de ses réflexions. Experts, exposants et leaders d’opinion s’y réuniront pour explorer et repenser ensemble notre indépendance...
URL:https://www.alumni.grenoble-inp.fr/fr/event/tech-fest-2026/2026/02/04/736
BEGIN:VALARM
TRIGGER:-P0DT1H0M0S
ACTION:DISPLAY
END:VALARM
END:VEVENT
END:VCALENDAR