BEGIN:VCALENDAR
VERSION:2.0
PRODID:-//hacksw/handcal//NONSGML v1.0//EN
BEGIN:VEVENT
DTSTART:20260327T190000
DTEND:20260327T235500
LOCATION:The Place 2 Beer \n79 rue Barthélémy de Laffemas \n26000 Valence
ORGANIZER;CN=Jean-marie DANG:MAILTO:jm.dang@alumni.grenoble-inp.fr
SUMMARY:Soirée ESISAR Back to the Future 2026
DESCRIPTION:🎉 Soirée ESISAR Back to the Future – Clôturez la journée en beauté !Après une belle journée de retrouvailles à l'école, prolongez l'expérience avec une soirée inoubliable entre alumni !\nNous avons le...
URL:https://www.alumni.grenoble-inp.fr/fr/event/soiree-esisar-back-to-the-future-2026/2026/03/27/753
BEGIN:VALARM
TRIGGER:-P0DT1H0M0S
ACTION:DISPLAY
END:VALARM
END:VEVENT
END:VCALENDAR